BEGIN:VCALENDAR
VERSION:2.0
PRODID:-// Long Prairie Country Club - ECPv6.15.18//NONSGML v1.0//EN
CALSCALE:GREGORIAN
METHOD:PUBLISH
X-WR-CALNAME: Long Prairie Country Club
X-ORIGINAL-URL:https://www.longprairiecountryclub.com
X-WR-CALDESC:Events for  Long Prairie Country Club
REFRESH-INTERVAL;VALUE=DURATION:PT1H
X-Robots-Tag:noindex
X-PUBLISHED-TTL:PT1H
BEGIN:VTIMEZONE
TZID:UTC
BEGIN:STANDARD
TZOFFSETFROM:+0000
TZOFFSETTO:+0000
TZNAME:UTC
DTSTART:20250101T000000
END:STANDARD
END:VTIMEZONE
BEGIN:VEVENT
DTSTART;VALUE=DATE:20260711
DTEND;VALUE=DATE:20260712
DTSTAMP:20260420T102342
CREATED:20260227T225008Z
LAST-MODIFIED:20260227T225008Z
UID:10000022-1783728000-1783814399@www.longprairiecountryclub.com
SUMMARY:Chaplaincy Scramble Tournament
DESCRIPTION:Chaplaincy Golf Scramble Tournament. Registration details and time TBD. The course will be closed morning – to mid-afternoon.
URL:https://www.longprairiecountryclub.com/event/chaplaincy-scramble-tournament/
END:VEVENT
END:VCALENDAR